BEGIN:VCALENDAR
VERSION:2.0
PRODID:-//das FranZ - ECPv6.15.20//NONSGML v1.0//EN
CALSCALE:GREGORIAN
METHOD:PUBLISH
X-WR-CALNAME:das FranZ
X-ORIGINAL-URL:https://dasfranz.net
X-WR-CALDESC:Veranstaltungen für das FranZ
REFRESH-INTERVAL;VALUE=DURATION:PT1H
X-Robots-Tag:noindex
X-PUBLISHED-TTL:PT1H
BEGIN:VTIMEZONE
TZID:Europe/Berlin
BEGIN:DAYLIGHT
TZOFFSETFROM:+0100
TZOFFSETTO:+0200
TZNAME:CEST
DTSTART:20250330T010000
END:DAYLIGHT
BEGIN:STANDARD
TZOFFSETFROM:+0200
TZOFFSETTO:+0100
TZNAME:CET
DTSTART:20251026T010000
END:STANDARD
BEGIN:DAYLIGHT
TZOFFSETFROM:+0100
TZOFFSETTO:+0200
TZNAME:CEST
DTSTART:20260329T010000
END:DAYLIGHT
BEGIN:STANDARD
TZOFFSETFROM:+0200
TZOFFSETTO:+0100
TZNAME:CET
DTSTART:20261025T010000
END:STANDARD
BEGIN:DAYLIGHT
TZOFFSETFROM:+0100
TZOFFSETTO:+0200
TZNAME:CEST
DTSTART:20270328T010000
END:DAYLIGHT
BEGIN:STANDARD
TZOFFSETFROM:+0200
TZOFFSETTO:+0100
TZNAME:CET
DTSTART:20271031T010000
END:STANDARD
END:VTIMEZONE
BEGIN:VEVENT
DTSTART;TZID=Europe/Berlin:20260121T193000
DTEND;TZID=Europe/Berlin:20260121T210000
DTSTAMP:20260424T030329
CREATED:20260110T192335Z
LAST-MODIFIED:20260110T192717Z
UID:4618-1769023800-1769029200@dasfranz.net
SUMMARY:Theologischer Abend mit P. Stollhof
DESCRIPTION:Papst Franziskus – der gescheiterte Prophet?! \nDie Erfahrung von Papst Franziskus auf dem Bischofsstuhl von Rom entspricht in vielem dem Schicksal der alt- und neutestamentlichen Propheten: Sie scheitern zu Lebzeiten oder dringen mit ihrer Botschaft nicht durch\, werden angefeindet\, in Frage gestellt und nicht gehört\, doch ihre Botschaft wirkt weit über ihren Tod hinaus in die Zukunft des Volkes Gottes. \nWas sind die bleibenden Impulse für die Zukunft der Kirche und der Welt? \n 
URL:https://dasfranz.net/event/theologischer-abend-mit-p-stollhof/
LOCATION:Mädchengymnasium St. Agnes\, Gymnasiumstraße 45\, Stuttgart\, 70174
CATEGORIES:Erwachsene
ATTACH;FMTTYPE=image/png:https://dasfranz.net/wp-content/uploads/2026/01/Bildschirmfoto-2026-01-10-um-20.25.43.png
END:VEVENT
END:VCALENDAR