BEGIN:VCALENDAR
VERSION:2.0
PRODID:-//das FranZ - ECPv6.15.20//NONSGML v1.0//EN
CALSCALE:GREGORIAN
METHOD:PUBLISH
X-WR-CALNAME:das FranZ
X-ORIGINAL-URL:https://dasfranz.net
X-WR-CALDESC:Veranstaltungen für das FranZ
REFRESH-INTERVAL;VALUE=DURATION:PT1H
X-Robots-Tag:noindex
X-PUBLISHED-TTL:PT1H
BEGIN:VTIMEZONE
TZID:Europe/Berlin
BEGIN:DAYLIGHT
TZOFFSETFROM:+0100
TZOFFSETTO:+0200
TZNAME:CEST
DTSTART:20250330T010000
END:DAYLIGHT
BEGIN:STANDARD
TZOFFSETFROM:+0200
TZOFFSETTO:+0100
TZNAME:CET
DTSTART:20251026T010000
END:STANDARD
BEGIN:DAYLIGHT
TZOFFSETFROM:+0100
TZOFFSETTO:+0200
TZNAME:CEST
DTSTART:20260329T010000
END:DAYLIGHT
BEGIN:STANDARD
TZOFFSETFROM:+0200
TZOFFSETTO:+0100
TZNAME:CET
DTSTART:20261025T010000
END:STANDARD
BEGIN:DAYLIGHT
TZOFFSETFROM:+0100
TZOFFSETTO:+0200
TZNAME:CEST
DTSTART:20270328T010000
END:DAYLIGHT
BEGIN:STANDARD
TZOFFSETFROM:+0200
TZOFFSETTO:+0100
TZNAME:CET
DTSTART:20271031T010000
END:STANDARD
END:VTIMEZONE
BEGIN:VEVENT
DTSTART;TZID=Europe/Berlin:20260210T193000
DTEND;TZID=Europe/Berlin:20260210T203000
DTSTAMP:20260423T065634
CREATED:20240831T084057Z
LAST-MODIFIED:20250927T194456Z
UID:4272-1770751800-1770755400@dasfranz.net
SUMMARY:Offener Abend mit Bibelgespräch
DESCRIPTION:Einmal im Monat laden wir Schwestern ein\, sich mit uns gemeinsam das Wort Gottes auszutauschen. Jedes dritte Treffen findet online statt\, so dass man sich einfach von zu Hause zuschalten kann. \n\nWas spricht mich an?\nWelche Fragen kommen mir?\nWomit tue ich mich schwer?\nWelcher Gedanke soll mich weiter begleiten?\n\nLust\, dabei zu sein? Dann einfach eine Mail an dasfranz@agnes-stuttgart.de
URL:https://dasfranz.net/event/offener-abend-mit-bibelgespraech-online-2/
LOCATION:Online
CATEGORIES:Erwachsene
ATTACH;FMTTYPE=image/jpeg:https://dasfranz.net/wp-content/uploads/2024/08/bible-Bild-von-Holger-Schue-auf-Pixabay-.jpg
END:VEVENT
END:VCALENDAR