BEGIN:VCALENDAR
VERSION:2.0
PRODID:-//das FranZ - ECPv6.15.20//NONSGML v1.0//EN
CALSCALE:GREGORIAN
METHOD:PUBLISH
X-WR-CALNAME:das FranZ
X-ORIGINAL-URL:https://dasfranz.net
X-WR-CALDESC:Veranstaltungen für das FranZ
REFRESH-INTERVAL;VALUE=DURATION:PT1H
X-Robots-Tag:noindex
X-PUBLISHED-TTL:PT1H
BEGIN:VTIMEZONE
TZID:Europe/Berlin
BEGIN:DAYLIGHT
TZOFFSETFROM:+0100
TZOFFSETTO:+0200
TZNAME:CEST
DTSTART:20250330T010000
END:DAYLIGHT
BEGIN:STANDARD
TZOFFSETFROM:+0200
TZOFFSETTO:+0100
TZNAME:CET
DTSTART:20251026T010000
END:STANDARD
BEGIN:DAYLIGHT
TZOFFSETFROM:+0100
TZOFFSETTO:+0200
TZNAME:CEST
DTSTART:20260329T010000
END:DAYLIGHT
BEGIN:STANDARD
TZOFFSETFROM:+0200
TZOFFSETTO:+0100
TZNAME:CET
DTSTART:20261025T010000
END:STANDARD
BEGIN:DAYLIGHT
TZOFFSETFROM:+0100
TZOFFSETTO:+0200
TZNAME:CEST
DTSTART:20270328T010000
END:DAYLIGHT
BEGIN:STANDARD
TZOFFSETFROM:+0200
TZOFFSETTO:+0100
TZNAME:CET
DTSTART:20271031T010000
END:STANDARD
END:VTIMEZONE
BEGIN:VEVENT
DTSTART;VALUE=DATE:20260501
DTEND;VALUE=DATE:20260502
DTSTAMP:20260422T224432
CREATED:20231004T083932Z
LAST-MODIFIED:20250927T193845Z
UID:3990-1777593600-1777679999@dasfranz.net
SUMMARY:Kinderfranziskusfest
DESCRIPTION:Wir sind mit Euch dabei: \nKinderfranziskusfest am 1. Mai \n\n\nHerzlich eingeladen sind alle Kinder bis ca. 13 Jahre und ihre Familien. Groß und klein sind willkommen. \nSeit Jahren tummeln sich an diesem Tag auf dem Klosterberg viele Menschen. Wir feiern\, spielen und erfahren etwas über das Leben des Hl. Franziskus. Jedes Jahr gibt es allerlei kreative Mitmachangebote\, Spiele und ein Theaterstück. \n\n\n\nTagesverlauf \n10.30 Uhr Mitmach-Auftakt\n11.00 Uhr Franziskusstationen und Picknick\n12.00 Uhr Spielemarkt mit vielen Möglichkeiten\n15.00 Uhr kreativer Gottesdienst \nBitte mitbringen: Verpflegung für den Tag\, Sonnen- und Regenschutz \n\n\n\nAnmeldung für Gruppen ab 10 Personen bis 1. April 2026:\nTel: 07581- 80106 oder per Mail kinderfranziskusfest@klostersiessen.de  \n  \nDu bist schon 14 Jahre alt? Du hast vom 30. April. bis 2. Mai Zeit? Dann komme gern als Helferin bei den Auftakten und Workshops mit. Melde Dich direkt bei Sr. Ina Franziska an. 🙂
URL:https://dasfranz.net/event/3990/
LOCATION:Kloster Sießen\, KlosterSiessen\, Bad Saulgau\, 88348\, Deutschland
CATEGORIES:Für Alle
ATTACH;FMTTYPE=image/jpeg:https://dasfranz.net/wp-content/uploads/2025/05/IMG_5554-1.jpeg
END:VEVENT
END:VCALENDAR