BEGIN:VCALENDAR
VERSION:2.0
PRODID:-//das FranZ - ECPv6.15.20//NONSGML v1.0//EN
CALSCALE:GREGORIAN
METHOD:PUBLISH
X-WR-CALNAME:das FranZ
X-ORIGINAL-URL:https://dasfranz.net
X-WR-CALDESC:Veranstaltungen für das FranZ
REFRESH-INTERVAL;VALUE=DURATION:PT1H
X-Robots-Tag:noindex
X-PUBLISHED-TTL:PT1H
BEGIN:VTIMEZONE
TZID:Europe/Berlin
BEGIN:DAYLIGHT
TZOFFSETFROM:+0100
TZOFFSETTO:+0200
TZNAME:CEST
DTSTART:20250330T010000
END:DAYLIGHT
BEGIN:STANDARD
TZOFFSETFROM:+0200
TZOFFSETTO:+0100
TZNAME:CET
DTSTART:20251026T010000
END:STANDARD
BEGIN:DAYLIGHT
TZOFFSETFROM:+0100
TZOFFSETTO:+0200
TZNAME:CEST
DTSTART:20260329T010000
END:DAYLIGHT
BEGIN:STANDARD
TZOFFSETFROM:+0200
TZOFFSETTO:+0100
TZNAME:CET
DTSTART:20261025T010000
END:STANDARD
BEGIN:DAYLIGHT
TZOFFSETFROM:+0100
TZOFFSETTO:+0200
TZNAME:CEST
DTSTART:20270328T010000
END:DAYLIGHT
BEGIN:STANDARD
TZOFFSETFROM:+0200
TZOFFSETTO:+0100
TZNAME:CET
DTSTART:20271031T010000
END:STANDARD
END:VTIMEZONE
BEGIN:VEVENT
DTSTART;TZID=Europe/Berlin:20260307T090000
DTEND;TZID=Europe/Berlin:20260307T120000
DTSTAMP:20260423T014424
CREATED:20260112T191933Z
LAST-MODIFIED:20260215T120757Z
UID:4622-1772874000-1772884800@dasfranz.net
SUMMARY:51. Frauenfrühstück
DESCRIPTION:Ein Vormittag mit einem liebevoll gedeckten Frühstückstisch\, guten Gesprächen\, inspirierenden Impulsen und Zeit zum Austausch. Lassen Sie sich einladen\, den Alltag für ein paar Stunden hinter sich zu lassen und Gemeinschaft zu erleben. \nThema: Glück suchen und Zufriedenheit finden – Was im Leben wirklich zählt \nReferentin: Heike Zimmermann \nAnmeldung bitte bis zum 2. März 2026 per Mail an Alexandra_Uhl@hotmail.com \nKostenbeitrag (vor Ort): 10€.
URL:https://dasfranz.net/event/51-frauensruehstueck/
LOCATION:Mädchengymnasium St. Agnes\, Gymnasiumstraße 45\, Stuttgart\, 70174
CATEGORIES:Erwachsene
ATTACH;FMTTYPE=image/jpeg:https://dasfranz.net/wp-content/uploads/2025/11/1f27cce5-63c9-4d2c-a93f-594f31298664.jpeg
END:VEVENT
BEGIN:VEVENT
DTSTART;TZID=Europe/Berlin:20260308T160000
DTEND;TZID=Europe/Berlin:20260308T190000
DTSTAMP:20260423T014424
CREATED:20260131T064538Z
LAST-MODIFIED:20260222T124712Z
UID:4633-1772985600-1772996400@dasfranz.net
SUMMARY:Gottesbilder
DESCRIPTION:Unser Gottesbild ist oft vor allem männlich geprägt: Doch Gott ist so viel mehr!\nIm Vortrag\, Austausch und anschließender Wortgottesfeier wollen wir diesem „mehr“ nachgehen. \nAnmeldung bis 07.03.2026 per Mail: sr.mariepasquale@klostersiessen.de oder 0151/18010652 \n 
URL:https://dasfranz.net/event/gottesbilder/
LOCATION:Mädchengymnasium St. Agnes\, Gymnasiumstraße 45\, Stuttgart\, 70174
CATEGORIES:Für Alle
ATTACH;FMTTYPE=image/jpeg:https://dasfranz.net/wp-content/uploads/2026/01/8D9A68EC-1631-441A-B137-9BA195780161.jpeg
END:VEVENT
BEGIN:VEVENT
DTSTART;TZID=Europe/Berlin:20260310T183000
DTEND;TZID=Europe/Berlin:20260310T203000
DTSTAMP:20260423T014424
CREATED:20240831T084340Z
LAST-MODIFIED:20250927T194855Z
UID:4276-1773167400-1773174600@dasfranz.net
SUMMARY:Offener Abend mit Bibelgespräch
DESCRIPTION:Einmal im Monat laden wir Schwestern ein\, mit uns gemeinsam zu essen und uns anschließend über das Wort Gottes auszutauschen. \n\nWas spricht mich an?\nWelche Fragen kommen mir?\nWomit tue ich mich schwer?\nWelcher Gedanke soll mich weiter begleiten?\n\nLust\, dabei zu sein? Dann einfach eine Mail an dasfranz@agnes-stuttgart.de
URL:https://dasfranz.net/event/offener-abend-mit-bibelgespraech-8/
LOCATION:Konvent St. Agnes\, Ecke Lange Str. 38 (Klingel rechts)\, Stuttgart\, 70174
CATEGORIES:Erwachsene
ATTACH;FMTTYPE=image/jpeg:https://dasfranz.net/wp-content/uploads/2024/08/bible-Bild-von-Holger-Schue-auf-Pixabay-.jpg
END:VEVENT
BEGIN:VEVENT
DTSTART;TZID=Europe/Berlin:20260327T140000
DTEND;TZID=Europe/Berlin:20260327T170000
DTSTAMP:20260423T014424
CREATED:20231004T082747Z
LAST-MODIFIED:20250927T194759Z
UID:3988-1774620000-1774630800@dasfranz.net
SUMMARY:Osterkerzen selbst gestalten
DESCRIPTION:Ihr wollt Eure eigene Osterkerze gestalten und so manches über die Symbolik erfahren? \nDann kommt gern zum Osterkerzenworkshop mit Sr. Vera und Sr. Ina Franziska. \nWir stellen Euch Kerzen\, Wachs\, ggf. Farben für die Gestaltung\, Motivvorschläge und das Know-how zur Verfügung. \nUnkostenbeitrag 4 €. \nOrt: S4 (Werkraum) \nAnmeldung (bitte mit Name und Klasse): Mail an Sr. Ina Franziska
URL:https://dasfranz.net/event/osterkerzen-selbst-gestalten-3/
LOCATION:Mädchengymnasium St. Agnes\, Gymnasiumstraße 45\, Stuttgart\, 70174
CATEGORIES:Jugend
ATTACH;FMTTYPE=image/jpeg:https://dasfranz.net/wp-content/uploads/2025/04/IMG_5147-scaled.jpeg
END:VEVENT
END:VCALENDAR